BEGIN:VCALENDAR
VERSION:2.0
PRODID:-//wp-events-plugin.com//7.2.3.1//EN
TZID:Europe/Berlin
X-WR-TIMEZONE:Europe/Berlin
BEGIN:VEVENT
UID:372@hanfverband.de
DTSTART;TZID=Europe/Berlin:20251022T160000
DTEND;TZID=Europe/Berlin:20251022T160000
DTSTAMP:20251013T161555Z
URL:https://hanfverband.de/termine/nuernberg-kundgebung-warkens-aenderunge
 n-im-medcang-stoppen
SUMMARY:Nürnberg: Kundgebung Warkens Änderungen im MedCanG stoppen
DESCRIPTION:Kundgebung des CSC Nbg. e.V.\n\n"Gemeinsam sagen wir: Warkens 
 Änderungen im MedCanG stoppen!\nWir fordern legale Bezugsquellen und eine
  faire Umsetzung des Cannabisgesetzes!\n\nAm 22.10.2025\nStart 16 Uhr\nOrt
 : Vor dem Bayerischen Staatsministerium für Gesundheit\, Pflege und Präv
 ention\n(Gewerbemuseumsplatz 2\, 90403 Nürnberg)\n\nKommt vorbei\, zeigt 
 Präsenz und steht mit uns für die Rechte von Patient:innen und Clubs ein
 ! "
ATTACH;FMTTYPE=image/jpeg:https://hanfverband.de/wp-content/uploads/2025/1
 0/DemoNuernberg.jpeg
LOCATION:Bayerischen Staatsministerium für Gesundheit\, Gewerbemuseumsplat
 z 2\, Nürnberg\, 90403\, Deutschland
GEO:49.451341;11.083178
X-APPLE-STRUCTURED-LOCATION;VALUE=URI;X-ADDRESS=Gewerbemuseumsplatz 2\, Nü
 rnberg\, 90403\, Deutschland;X-APPLE-RADIUS=100;X-TITLE=Bayerischen Staats
 ministerium für Gesundheit:geo:49.451341,11.083178
END:VEVENT
BEGIN:VTIMEZONE
TZID:Europe/Berlin
X-LIC-LOCATION:Europe/Berlin
BEGIN:DAYLIGHT
DTSTART:20250330T030000
TZOFFSETFROM:+0100
TZOFFSETTO:+0200
TZNAME:CEST
END:DAYLIGHT
END:VTIMEZONE
END:VCALENDAR