BEGIN:VCALENDAR
VERSION:2.0
PRODID:-//wp-events-plugin.com//7.2.3.1//EN
TZID:Europe/Berlin
X-WR-TIMEZONE:Europe/Berlin
BEGIN:VEVENT
UID:484@hanfverband.de
DTSTART;TZID=Europe/Berlin:20260502T162000
DTEND;TZID=Europe/Berlin:20260502T162000
DTSTAMP:20260420T103510Z
URL:https://hanfverband.de/termine/nuernberg-global-marijuana-march-2026
SUMMARY:Nürnberg: Global Marijuana March 2026
DESCRIPTION:Die CSU schikaniert weiter – statt die Legalisierung sinnvoll
  umzusetzen.\n\nDabei zeigt der EKOCAN-Bericht\, dass die Entwicklungen in
 sgesamt positiv sind. Trotzdem wird politisch weiter gebremst und verschä
 rft.\n\nDagegen gehen wir auf die Straße:\n\nKeine Anbauvereinigungen tro
 tz Legalisierung\nPatient:innen werden unter Druck gesetzt statt geschütz
 t\nVersand &amp\; Telemedizin werden infrage gestellt\n\nKommt mit uns auf
  die Straße und seid laut!\n\nMit dabei: Tsunami Soundsystem\n\nAktuelle 
 Infos gibts auf Instagram sowie der Website des CSC Nürnberg.
ATTACH;FMTTYPE=image/jpeg:https://hanfverband.de/wp-content/uploads/2026/0
 4/Nuernberg.jpg
LOCATION:Nürnberg\, Rosenaupark\, Rosenaupark\, Nürnberg\, Deutschland
GEO:49.450858;11.064298
X-APPLE-STRUCTURED-LOCATION;VALUE=URI;X-ADDRESS=Rosenaupark\, Nürnberg\, D
 eutschland;X-APPLE-RADIUS=100;X-TITLE=Nürnberg\, Rosenaupark:geo:49.45085
 8,11.064298
END:VEVENT
BEGIN:VTIMEZONE
TZID:Europe/Berlin
X-LIC-LOCATION:Europe/Berlin
BEGIN:DAYLIGHT
DTSTART:20260329T030000
TZOFFSETFROM:+0100
TZOFFSETTO:+0200
TZNAME:CEST
END:DAYLIGHT
END:VTIMEZONE
END:VCALENDAR