BEGIN:VCALENDAR
VERSION:2.0
PRODID:-//wp-events-plugin.com//7.2.3.1//EN
TZID:Europe/Berlin
X-WR-TIMEZONE:Europe/Berlin
BEGIN:VEVENT
UID:487@hanfverband.de
DTSTART;TZID=Europe/Berlin:20260504T190000
DTEND;TZID=Europe/Berlin:20260504T190000
DTSTAMP:20260423T131132Z
URL:https://hanfverband.de/termine/heidelberg-teamsitzung-der-dhv-ortsgrup
 pe-rhein-neckar-7
SUMMARY:Heidelberg: Teamsitzung der DHV-Ortsgruppe Rhein-Neckar
DESCRIPTION:"Teamsitzung im Laden für Kultur und Politik\, Kaiserstr. 62\,
  69115 Heidelberg am Montag\, den 4. Mai 2026 um 19 Uhr\n\nUnser monatlich
 es Planungstreffen mit fester Agenda.\nDieses Treffen richtet sich an Pers
 onen\, welche mittel- oder langfristig die Legalisierungsbewegung unterst
 ützen möchten. Wir planen Veranstaltungen und Aktivitäten und bespreche
 n Organisatorisches wie z.B. den Global Marijuana March am 2. Mai 2026."
LOCATION:Laden für Kultur und Politik\, Kaiserstr. 62\, Heidelberg\, 69115
 \, Deutschland
GEO:49.403483;8.68414
X-APPLE-STRUCTURED-LOCATION;VALUE=URI;X-ADDRESS=Kaiserstr. 62\, Heidelberg\
 , 69115\, Deutschland;X-APPLE-RADIUS=100;X-TITLE=Laden für Kultur und Pol
 itik:geo:49.403483,8.68414
END:VEVENT
BEGIN:VTIMEZONE
TZID:Europe/Berlin
X-LIC-LOCATION:Europe/Berlin
BEGIN:DAYLIGHT
DTSTART:20260329T030000
TZOFFSETFROM:+0100
TZOFFSETTO:+0200
TZNAME:CEST
END:DAYLIGHT
END:VTIMEZONE
END:VCALENDAR