BEGIN:VCALENDAR
VERSION:2.0
PRODID:-//wp-events-plugin.com//7.2.3.1//EN
TZID:Europe/Berlin
X-WR-TIMEZONE:Europe/Berlin
BEGIN:VEVENT
UID:404@hanfverband.de
DTSTART;TZID=Europe/Berlin:20260314T100000
DTEND;TZID=Europe/Berlin:20260314T160000
DTSTAMP:20260205T134151Z
URL:https://hanfverband.de/termine/heidelberg-infotisch-der-dhv-ortsgruppe
 -am-anatomiegarten
SUMMARY:Heidelberg: Infotisch der DHV-Ortsgruppe am Anatomiegarten
DESCRIPTION:"Samstag\, 14. März 2026 10 Uhr - 16 Uhr Infotisch in Heidelbe
 rg am Anatomiegarten (Hauptstr. 49)\n\nUnser Team auf Tour:\n→ alle Info
 s rund um das Thema Hanf - als Rohstoff\, Medizin und Genussmittel"
LOCATION:Anatomiegarten\, Hauptstr. 49\, 69117 Heidelberg\, Deutschland
GEO:49.41086;8.6977
X-APPLE-STRUCTURED-LOCATION;VALUE=URI;X-ADDRESS=Hauptstr. 49\, 69117 Heidel
 berg\, Deutschland;X-APPLE-RADIUS=100;X-TITLE=Anatomiegarten:geo:49.41086,
 8.6977
END:VEVENT
BEGIN:VTIMEZONE
TZID:Europe/Berlin
X-LIC-LOCATION:Europe/Berlin
BEGIN:STANDARD
DTSTART:20251026T020000
TZOFFSETFROM:+0200
TZOFFSETTO:+0100
TZNAME:CET
END:STANDARD
END:VTIMEZONE
END:VCALENDAR