BEGIN:VCALENDAR
VERSION:2.0
PRODID:-//wp-events-plugin.com//7.2.3.1//EN
TZID:Europe/Berlin
X-WR-TIMEZONE:Europe/Berlin
BEGIN:VEVENT
UID:488@hanfverband.de
DTSTART;TZID=Europe/Berlin:20260519T180000
DTEND;TZID=Europe/Berlin:20260519T180000
DTSTAMP:20260423T131323Z
URL:https://hanfverband.de/termine/heidelberg-hanftisch-der-dhv-ortsgruppe
 -rhein-neckar-9
SUMMARY:Heidelberg: Hanftisch der DHV-Ortsgruppe Rhein-Neckar
DESCRIPTION:"Hanftisch in Heidelberg am Dienstag\, den 19.5.2026 um 18 Uhr 
 auf dfer Neckarwiese zwischen Theodor-Heuss-Brücke und Bootsverleih.\n\nD
 ie Hanffreund:innen im Rhein-Neckar Delta treffen sich zum gegenseitigen A
 ustausch sowie zur Planung bevorstehender Veranstaltungen. Wenn Du am Them
 a Hanf allgemein interessiert bist\, ist dieses Treffen der richtige Ort f
 ür Input. Wir freuen uns auf anregende Gespräche."
LOCATION:Neckarwiese (Theodor-Heuss-Brücke)\, Uferstraße \, Heidelberg\, 
 69120\, Deutschland
GEO:49.41274;8.686011
X-APPLE-STRUCTURED-LOCATION;VALUE=URI;X-ADDRESS=Uferstraße \, Heidelberg\,
  69120\, Deutschland;X-APPLE-RADIUS=100;X-TITLE=Neckarwiese (Theodor-Heuss
 -Brücke):geo:49.41274,8.686011
END:VEVENT
BEGIN:VTIMEZONE
TZID:Europe/Berlin
X-LIC-LOCATION:Europe/Berlin
BEGIN:DAYLIGHT
DTSTART:20260329T030000
TZOFFSETFROM:+0100
TZOFFSETTO:+0200
TZNAME:CEST
END:DAYLIGHT
END:VTIMEZONE
END:VCALENDAR