BEGIN:VCALENDAR
VERSION:2.0
PRODID:-//wp-events-plugin.com//7.2.3.1//EN
TZID:Europe/Berlin
X-WR-TIMEZONE:Europe/Berlin
BEGIN:VEVENT
UID:302@hanfverband.de
DTSTART;TZID=Europe/Berlin:20250503T150000
DTEND;TZID=Europe/Berlin:20250503T150000
DTSTAMP:20250426T075430Z
URL:https://hanfverband.de/termine/braunschweig-global-marijuana-march-202
 5
SUMMARY:Braunschweig: Global Marijuana March 2025
DESCRIPTION:Jedes Jahr Anfang Mai findet weltweit der Global Marijuana Marc
 h (GMM) statt\, meist am ersten Samstag des Monats. Denn die Legalisierung
  von Cannabis ist ein Thema\, das auf der ganzen Welt Menschen bewegt! Auc
 h in vielen deutschen Städten wird es wieder Demonstrationen dazu geben. 
 Das bundesweite Motto in diesem Jahr lautet “Legalisierung durchziehen -
  Fachgeschäfte jetzt!". Wir fordern die neue Bundesregierung auf\, das Ca
 nnabisgesetz beizubehalten und bundesweite Abgabestellen für Erwachsene z
 u ermöglichen\, sei es als wissenschaftliches Modellprojekt oder mit eine
 m neuen Gesetz.\n\nAuf der offiziellen Website der Organisatoren gibt es w
 eitere Informationen und Kontaktmöglichkeiten zum GMM in Braunschweig.
ATTACH;FMTTYPE=image/jpeg:https://hanfverband.de/wp-content/uploads/2024/0
 2/gmm_logo_breit.png
CATEGORIES:GMM
LOCATION:Schlossplatz\, Braunschweig\, Schlossplatz\, Braunschweig\, Deutsc
 hland
GEO:52.263402;10.52716
X-APPLE-STRUCTURED-LOCATION;VALUE=URI;X-ADDRESS=Schlossplatz\, Braunschweig
 \, Deutschland;X-APPLE-RADIUS=100;X-TITLE=Schlossplatz\, Braunschweig:geo:
 52.263402,10.52716
END:VEVENT
BEGIN:VTIMEZONE
TZID:Europe/Berlin
X-LIC-LOCATION:Europe/Berlin
BEGIN:DAYLIGHT
DTSTART:20250330T030000
TZOFFSETFROM:+0100
TZOFFSETTO:+0200
TZNAME:CEST
END:DAYLIGHT
END:VTIMEZONE
END:VCALENDAR